BEGIN:VCALENDAR
VERSION:2.0
PRODID:-//Harmonia138.org - ECPv6.15.20//NONSGML v1.0//EN
CALSCALE:GREGORIAN
METHOD:PUBLISH
X-WR-CALNAME:Harmonia138.org
X-ORIGINAL-URL:https://harmonia138.org
X-WR-CALDESC:Events for Harmonia138.org
REFRESH-INTERVAL;VALUE=DURATION:PT1H
X-Robots-Tag:noindex
X-PUBLISHED-TTL:PT1H
BEGIN:VTIMEZONE
TZID:America/New_York
BEGIN:DAYLIGHT
TZOFFSETFROM:-0500
TZOFFSETTO:-0400
TZNAME:EDT
DTSTART:20230312T070000
END:DAYLIGHT
BEGIN:STANDARD
TZOFFSETFROM:-0400
TZOFFSETTO:-0500
TZNAME:EST
DTSTART:20231105T060000
END:STANDARD
BEGIN:DAYLIGHT
TZOFFSETFROM:-0500
TZOFFSETTO:-0400
TZNAME:EDT
DTSTART:20240310T070000
END:DAYLIGHT
BEGIN:STANDARD
TZOFFSETFROM:-0400
TZOFFSETTO:-0500
TZNAME:EST
DTSTART:20241103T060000
END:STANDARD
BEGIN:DAYLIGHT
TZOFFSETFROM:-0500
TZOFFSETTO:-0400
TZNAME:EDT
DTSTART:20250309T070000
END:DAYLIGHT
BEGIN:STANDARD
TZOFFSETFROM:-0400
TZOFFSETTO:-0500
TZNAME:EST
DTSTART:20251102T060000
END:STANDARD
END:VTIMEZONE
BEGIN:VEVENT
DTSTART;TZID=America/New_York:20241108T173000
DTEND;TZID=America/New_York:20241108T173000
DTSTAMP:20260423T094605
CREATED:20241007T163205Z
LAST-MODIFIED:20241007T164144Z
UID:4099-1731087000-1731087000@harmonia138.org
SUMMARY:Grand Master's Official Visit District 7
DESCRIPTION:Registration: 5:30 pm – Dinner 6:30 pm – Meeting 7:30 pm
URL:https://harmonia138.org/event/2024-11-08-grand-masters-official-visit-district-7/
LOCATION:Wellborn Masonic Lodge No. 13 F & AM\, 12249 County Road 137\, Wellborn\, FL\, 32094\, United States
CATEGORIES:Grand Master's Official Visit,Special Event
ATTACH;FMTTYPE=image/jpeg:https://harmonia138.org/wp-content/uploads/2024/10/2024-11-08-District-7-GMOV-InvitationTN-scaled.jpg
END:VEVENT
BEGIN:VEVENT
DTSTART;TZID=America/New_York:20241111T080000
DTEND;TZID=America/New_York:20241111T170000
DTSTAMP:20260423T094605
CREATED:20241201T160338Z
LAST-MODIFIED:20241201T160403Z
UID:4133-1731312000-1731344400@harmonia138.org
SUMMARY:Stated Communication
DESCRIPTION:
URL:https://harmonia138.org/event/2024-11-11stated-communication/
LOCATION:Harmonia Lodge No. 138 F & AM\, 1896 Palm Beach Lakes Blvd. #200\, West Palm Beach\, FL\, 33409\, United States
CATEGORIES:Stated Communication
ATTACH;FMTTYPE=image/jpeg:https://harmonia138.org/wp-content/uploads/2023/12/Stated-Communication.jpg
END:VEVENT
BEGIN:VEVENT
DTSTART;TZID=America/New_York:20241125T180000
DTEND;TZID=America/New_York:20241125T180000
DTSTAMP:20260423T094605
CREATED:20241201T160642Z
LAST-MODIFIED:20241201T160658Z
UID:4135-1732557600-1732557600@harmonia138.org
SUMMARY:Thanksgiving Family & Friends Dinner
DESCRIPTION:*** NO STATED MEETING *** LODGE IS DARK ***
URL:https://harmonia138.org/event/2024-11-25-thanksgiving-family-friends-dinner/
LOCATION:Harmonia Lodge No. 138 F & AM\, 1896 Palm Beach Lakes Blvd. #200\, West Palm Beach\, FL\, 33409\, United States
ATTACH;FMTTYPE=image/jpeg:https://harmonia138.org/wp-content/uploads/2023/11/Lodge-is-Dark.jpg
END:VEVENT
END:VCALENDAR