BEGIN:VCALENDAR
VERSION:2.0
PRODID:-//Harmonia138.org - ECPv6.15.20//NONSGML v1.0//EN
CALSCALE:GREGORIAN
METHOD:PUBLISH
X-WR-CALNAME:Harmonia138.org
X-ORIGINAL-URL:https://harmonia138.org
X-WR-CALDESC:Events for Harmonia138.org
REFRESH-INTERVAL;VALUE=DURATION:PT1H
X-Robots-Tag:noindex
X-PUBLISHED-TTL:PT1H
BEGIN:VTIMEZONE
TZID:America/New_York
BEGIN:DAYLIGHT
TZOFFSETFROM:-0500
TZOFFSETTO:-0400
TZNAME:EDT
DTSTART:20220313T070000
END:DAYLIGHT
BEGIN:STANDARD
TZOFFSETFROM:-0400
TZOFFSETTO:-0500
TZNAME:EST
DTSTART:20221106T060000
END:STANDARD
BEGIN:DAYLIGHT
TZOFFSETFROM:-0500
TZOFFSETTO:-0400
TZNAME:EDT
DTSTART:20230312T070000
END:DAYLIGHT
BEGIN:STANDARD
TZOFFSETFROM:-0400
TZOFFSETTO:-0500
TZNAME:EST
DTSTART:20231105T060000
END:STANDARD
BEGIN:DAYLIGHT
TZOFFSETFROM:-0500
TZOFFSETTO:-0400
TZNAME:EDT
DTSTART:20240310T070000
END:DAYLIGHT
BEGIN:STANDARD
TZOFFSETFROM:-0400
TZOFFSETTO:-0500
TZNAME:EST
DTSTART:20241103T060000
END:STANDARD
BEGIN:DAYLIGHT
TZOFFSETFROM:-0500
TZOFFSETTO:-0400
TZNAME:EDT
DTSTART:20250309T070000
END:DAYLIGHT
BEGIN:STANDARD
TZOFFSETFROM:-0400
TZOFFSETTO:-0500
TZNAME:EST
DTSTART:20251102T060000
END:STANDARD
END:VTIMEZONE
BEGIN:VEVENT
DTSTART;TZID=America/New_York:20241108T173000
DTEND;TZID=America/New_York:20241108T173000
DTSTAMP:20260421T004634
CREATED:20241007T163205Z
LAST-MODIFIED:20241007T164144Z
UID:4099-1731087000-1731087000@harmonia138.org
SUMMARY:Grand Master's Official Visit District 7
DESCRIPTION:Registration: 5:30 pm – Dinner 6:30 pm – Meeting 7:30 pm
URL:https://harmonia138.org/event/2024-11-08-grand-masters-official-visit-district-7/
LOCATION:Wellborn Masonic Lodge No. 13 F & AM\, 12249 County Road 137\, Wellborn\, FL\, 32094\, United States
CATEGORIES:Grand Master's Official Visit,Special Event
ATTACH;FMTTYPE=image/jpeg:https://harmonia138.org/wp-content/uploads/2024/10/2024-11-08-District-7-GMOV-InvitationTN-scaled.jpg
END:VEVENT
BEGIN:VEVENT
DTSTART;TZID=America/New_York:20241028T181500
DTEND;TZID=America/New_York:20241028T181500
DTSTAMP:20260421T004634
CREATED:20241002T160408Z
LAST-MODIFIED:20241012T041613Z
UID:4090-1730139300-1730139300@harmonia138.org
SUMMARY:Stated Communication
DESCRIPTION:Meal 6:15 / Meeting 7:15
URL:https://harmonia138.org/event/2024-10-28-stated-communication/
LOCATION:Harmonia Lodge No. 138 F & AM\, 1896 Palm Beach Lakes Blvd. #200\, West Palm Beach\, FL\, 33409\, United States
CATEGORIES:Stated Communication
ATTACH;FMTTYPE=image/jpeg:https://harmonia138.org/wp-content/uploads/2024/10/2024-10-28-Stated-Communication.jpg
END:VEVENT
BEGIN:VEVENT
DTSTART;TZID=America/New_York:20241026T080000
DTEND;TZID=America/New_York:20241026T080000
DTSTAMP:20260421T004634
CREATED:20240810T224139Z
LAST-MODIFIED:20241012T041448Z
UID:4065-1729929600-1729929600@harmonia138.org
SUMMARY:Called Communication / Master Mason Degree
DESCRIPTION:Degree 8AM / Brunch to Follow
URL:https://harmonia138.org/event/2024-10-26-called-communication-master-mason-degree/
LOCATION:Harmonia Lodge No. 138 F & AM\, 1896 Palm Beach Lakes Blvd. #200\, West Palm Beach\, FL\, 33409\, United States
CATEGORIES:Called Communication,Master Mason Degree
ATTACH;FMTTYPE=image/jpeg:https://harmonia138.org/wp-content/uploads/2024/08/2024-10-26-Called-Communication-Master-Mason-Degree.jpg
END:VEVENT
BEGIN:VEVENT
DTSTART;TZID=America/New_York:20241014T181500
DTEND;TZID=America/New_York:20241014T181500
DTSTAMP:20260421T004634
CREATED:20241002T160228Z
LAST-MODIFIED:20241002T160512Z
UID:4086-1728929700-1728929700@harmonia138.org
SUMMARY:Stated Communication
DESCRIPTION:Meal 6:15 / Meeting 7:15
URL:https://harmonia138.org/event/2024-10-14-stated-communication/
LOCATION:Harmonia Lodge No. 138 F & AM\, 1896 Palm Beach Lakes Blvd. #200\, West Palm Beach\, FL\, 33409\, United States
CATEGORIES:Stated Communication
ATTACH;FMTTYPE=image/jpeg:https://harmonia138.org/wp-content/uploads/2024/10/2024-10-14-Stated-Communication.jpg
END:VEVENT
BEGIN:VEVENT
DTSTART;TZID=America/New_York:20240923T181500
DTEND;TZID=America/New_York:20240923T181500
DTSTAMP:20260421T004634
CREATED:20240902T142022Z
LAST-MODIFIED:20240902T152013Z
UID:4074-1727115300-1727115300@harmonia138.org
SUMMARY:Called Communication / Entered Apprentice Degree
DESCRIPTION:Meal 6:15 / Meeting 7:15
URL:https://harmonia138.org/event/2024-09-23-called-communication/
LOCATION:Harmonia Lodge No. 138 F & AM\, 1896 Palm Beach Lakes Blvd. #200\, West Palm Beach\, FL\, 33409\, United States
CATEGORIES:Called Communication,Entered Apprentice Degree
ATTACH;FMTTYPE=image/jpeg:https://harmonia138.org/wp-content/uploads/2024/09/2024-9-23-Stated-Communication-1.jpg
END:VEVENT
BEGIN:VEVENT
DTSTART;TZID=America/New_York:20240909T181500
DTEND;TZID=America/New_York:20240909T181500
DTSTAMP:20260421T004634
CREATED:20240902T141850Z
LAST-MODIFIED:20240902T151921Z
UID:4070-1725905700-1725905700@harmonia138.org
SUMMARY:Stated Communication / Appendant Body Celebration
DESCRIPTION:Meal 6:15 / Meeting 7:15
URL:https://harmonia138.org/event/2024-09-09-stated-communication/
LOCATION:Harmonia Lodge No. 138 F & AM\, 1896 Palm Beach Lakes Blvd. #200\, West Palm Beach\, FL\, 33409\, United States
CATEGORIES:Appendant Body Celebration,Special Event,Stated Communication
ATTACH;FMTTYPE=image/jpeg:https://harmonia138.org/wp-content/uploads/2024/09/2024-09-9-Stated-Communication-1.jpg
END:VEVENT
BEGIN:VEVENT
DTSTART;TZID=America/New_York:20240826T181500
DTEND;TZID=America/New_York:20240826T181500
DTSTAMP:20260421T004634
CREATED:20240810T223838Z
LAST-MODIFIED:20240810T223924Z
UID:4062-1724696100-1724696100@harmonia138.org
SUMMARY:Stated Communication
DESCRIPTION:Meal 6:15 / Meeting 7:15
URL:https://harmonia138.org/event/2024-08-26-stated-communication/
LOCATION:Harmonia Lodge No. 138 F & AM\, 1896 Palm Beach Lakes Blvd. #200\, West Palm Beach\, FL\, 33409\, United States
CATEGORIES:Stated Communication
ATTACH;FMTTYPE=image/jpeg:https://harmonia138.org/wp-content/uploads/2024/08/2024-08-26-Stated-Communication.jpg
END:VEVENT
BEGIN:VEVENT
DTSTART;TZID=America/New_York:20240812T181500
DTEND;TZID=America/New_York:20240812T181500
DTSTAMP:20260421T004634
CREATED:20240810T223628Z
LAST-MODIFIED:20240810T223646Z
UID:4057-1723486500-1723486500@harmonia138.org
SUMMARY:Stated Communication / Appendant Body Celebration - Amara Shriners
DESCRIPTION:Dinner at 6:15\, complimentary for Amara Shriners.\nMeeting begins at 7:15\nAmara Shriners will be provided up to 20 minutes to present to the Craft “All about Shriners” \nAmara is invited to distribute this announcement to their Members.
URL:https://harmonia138.org/event/2024-08-12-stated-communication-appendant-body-celebration-amara-shriners/
LOCATION:Harmonia Lodge No. 138 F & AM\, 1896 Palm Beach Lakes Blvd. #200\, West Palm Beach\, FL\, 33409\, United States
CATEGORIES:Special Event,Stated Communication
ATTACH;FMTTYPE=image/jpeg:https://harmonia138.org/wp-content/uploads/2024/08/2024-08-12-Stated-Communication-ABC-Amara-Shrine.jpg
END:VEVENT
BEGIN:VEVENT
DTSTART;TZID=America/New_York:20240727T120000
DTEND;TZID=America/New_York:20240727T120000
DTSTAMP:20260421T004634
CREATED:20240630T172538Z
LAST-MODIFIED:20240630T172620Z
UID:4050-1722081600-1722081600@harmonia138.org
SUMMARY:Called Communication / Fellow Craft Degree
DESCRIPTION:SATURDAY: Meal 12 pm / Meeting/Degree 1 pm
URL:https://harmonia138.org/event/called-communication-fellow-craft-degree/
LOCATION:Harmonia Lodge No. 138 F & AM\, 1896 Palm Beach Lakes Blvd. #200\, West Palm Beach\, FL\, 33409\, United States
CATEGORIES:Called Communication,Fellow Craft Degree
ATTACH;FMTTYPE=image/jpeg:https://harmonia138.org/wp-content/uploads/2024/06/2024-07-27-Called-Communication-Fellow-Craft-Degree.jpg
END:VEVENT
BEGIN:VEVENT
DTSTART;TZID=America/New_York:20240722T181500
DTEND;TZID=America/New_York:20240722T181500
DTSTAMP:20260421T004634
CREATED:20240630T172257Z
LAST-MODIFIED:20240630T172746Z
UID:4048-1721672100-1721672100@harmonia138.org
SUMMARY:Stated Communication
DESCRIPTION:Meal 6:15 pm / Meeting 7:15 pm
URL:https://harmonia138.org/event/2024-07-22-stated-communication/
LOCATION:Harmonia Lodge No. 138 F & AM\, 1896 Palm Beach Lakes Blvd. #200\, West Palm Beach\, FL\, 33409\, United States
CATEGORIES:Stated Communication
ATTACH;FMTTYPE=image/jpeg:https://harmonia138.org/wp-content/uploads/2024/06/2024-07-22-Stated-Communication.jpg
END:VEVENT
BEGIN:VEVENT
DTSTART;TZID=America/New_York:20240708T181500
DTEND;TZID=America/New_York:20240708T181500
DTSTAMP:20260421T004634
CREATED:20240630T172124Z
LAST-MODIFIED:20240630T172805Z
UID:4043-1720462500-1720462500@harmonia138.org
SUMMARY:Stated Communication
DESCRIPTION:Meal 6:15 pm / Meeting 7:15 pm
URL:https://harmonia138.org/event/2024-07-08-stated-communication/
LOCATION:Harmonia Lodge No. 138 F & AM\, 1896 Palm Beach Lakes Blvd. #200\, West Palm Beach\, FL\, 33409\, United States
CATEGORIES:Stated Communication
ATTACH;FMTTYPE=image/jpeg:https://harmonia138.org/wp-content/uploads/2024/06/2024-07-08-Stated-Communication.jpg
END:VEVENT
BEGIN:VEVENT
DTSTART;TZID=America/New_York:20240624T181500
DTEND;TZID=America/New_York:20240624T181500
DTSTAMP:20260421T004634
CREATED:20240604T125112Z
LAST-MODIFIED:20240604T135605Z
UID:4015-1719252900-1719252900@harmonia138.org
SUMMARY:Stated Communication
DESCRIPTION:
URL:https://harmonia138.org/event/2024-06-24-stated-communication/
LOCATION:Harmonia Lodge No. 138 F & AM\, 1896 Palm Beach Lakes Blvd. #200\, West Palm Beach\, FL\, 33409\, United States
CATEGORIES:Stated Communication
ATTACH;FMTTYPE=image/jpeg:https://harmonia138.org/wp-content/uploads/2024/06/2024-06-24-Stated-Communication.jpg
END:VEVENT
BEGIN:VEVENT
DTSTART;TZID=America/New_York:20240622T181500
DTEND;TZID=America/New_York:20240622T181500
DTSTAMP:20260421T004634
CREATED:20240604T124914Z
LAST-MODIFIED:20240619T143209Z
UID:4013-1719080100-1719080100@harmonia138.org
SUMMARY:Called Communication / Table Lodge
DESCRIPTION:
URL:https://harmonia138.org/event/2024-06-22-called-communication-grand-table-lodge/
LOCATION:Harmonia Lodge No. 138 F & AM\, 1896 Palm Beach Lakes Blvd. #200\, West Palm Beach\, FL\, 33409\, United States
CATEGORIES:Called Communication,Grand Table Lodge,Special Event
ATTACH;FMTTYPE=image/jpeg:https://harmonia138.org/wp-content/uploads/2024/06/2024-06-22-Called-Communication-Grand-Table-Lodge.jpg
END:VEVENT
BEGIN:VEVENT
DTSTART;TZID=America/New_York:20240613T181500
DTEND;TZID=America/New_York:20240613T181500
DTSTAMP:20260421T004634
CREATED:20240604T124659Z
LAST-MODIFIED:20240604T131328Z
UID:4011-1718302500-1718302500@harmonia138.org
SUMMARY:Called Communication / Entered Apprentice Degree
DESCRIPTION:
URL:https://harmonia138.org/event/2024-06-13-called-communication-entered-apprentice-degree/
LOCATION:Harmonia Lodge No. 138 F & AM\, 1896 Palm Beach Lakes Blvd. #200\, West Palm Beach\, FL\, 33409\, United States
CATEGORIES:Called Communication,Entered Apprentice Degree
ATTACH;FMTTYPE=image/jpeg:https://harmonia138.org/wp-content/uploads/2024/06/2024-06-13-Called-Communication-Entered-Apprentice-Degree.jpg
END:VEVENT
BEGIN:VEVENT
DTSTART;TZID=America/New_York:20240610T181500
DTEND;TZID=America/New_York:20240610T181500
DTSTAMP:20260421T004634
CREATED:20240604T124333Z
LAST-MODIFIED:20240604T135705Z
UID:4008-1718043300-1718043300@harmonia138.org
SUMMARY:Stated Communication
DESCRIPTION:Meal 6:15 / Meeting 7:15
URL:https://harmonia138.org/event/2024-06-10-stated-communication/
LOCATION:Harmonia Lodge No. 138 F & AM\, 1896 Palm Beach Lakes Blvd. #200\, West Palm Beach\, FL\, 33409\, United States
CATEGORIES:Stated Communication
ATTACH;FMTTYPE=image/jpeg:https://harmonia138.org/wp-content/uploads/2024/06/2024-06-10-Stated-Communication.jpg
END:VEVENT
BEGIN:VEVENT
DTSTART;TZID=America/New_York:20240527T181500
DTEND;TZID=America/New_York:20240527T181500
DTSTAMP:20260421T004634
CREATED:20240604T124030Z
LAST-MODIFIED:20240604T124054Z
UID:4006-1716833700-1716833700@harmonia138.org
SUMMARY:Lodge is Dark
DESCRIPTION:
URL:https://harmonia138.org/event/2024-05-27-lodge-is-dark/
LOCATION:Harmonia Lodge No. 138 F & AM\, 1896 Palm Beach Lakes Blvd. #200\, West Palm Beach\, FL\, 33409\, United States
CATEGORIES:Lodge is Dark
ATTACH;FMTTYPE=image/jpeg:https://harmonia138.org/wp-content/uploads/2023/11/Lodge-is-Dark.jpg
END:VEVENT
BEGIN:VEVENT
DTSTART;TZID=America/New_York:20240516T181500
DTEND;TZID=America/New_York:20240516T181500
DTSTAMP:20260421T004634
CREATED:20240604T123816Z
LAST-MODIFIED:20240604T140438Z
UID:4004-1715883300-1715883300@harmonia138.org
SUMMARY:Called Communication / Fellow Craft Degree
DESCRIPTION:
URL:https://harmonia138.org/event/2024-05-16-called-communication-fellow-craft-degree/
LOCATION:Harmonia Lodge No. 138 F & AM\, 1896 Palm Beach Lakes Blvd. #200\, West Palm Beach\, FL\, 33409\, United States
CATEGORIES:Called Communication,Fellow Craft Degree
ATTACH;FMTTYPE=image/jpeg:https://harmonia138.org/wp-content/uploads/2024/06/2024-05-16-Called-Communication-Fellow-Craft-Degree.jpg
END:VEVENT
BEGIN:VEVENT
DTSTART;TZID=America/New_York:20240513T181500
DTEND;TZID=America/New_York:20240513T181500
DTSTAMP:20260421T004634
CREATED:20240604T123435Z
LAST-MODIFIED:20240604T140236Z
UID:4002-1715624100-1715624100@harmonia138.org
SUMMARY:Stated Communication
DESCRIPTION:
URL:https://harmonia138.org/event/2024-05-13-stated-communication/
LOCATION:Harmonia Lodge No. 138 F & AM\, 1896 Palm Beach Lakes Blvd. #200\, West Palm Beach\, FL\, 33409\, United States
CATEGORIES:Stated Communication
ATTACH;FMTTYPE=image/jpeg:https://harmonia138.org/wp-content/uploads/2024/06/2024-05-13-Stated-Communication.jpg
END:VEVENT
BEGIN:VEVENT
DTSTART;TZID=America/New_York:20240422T181500
DTEND;TZID=America/New_York:20240422T181500
DTSTAMP:20260421T004634
CREATED:20240325T213412Z
LAST-MODIFIED:20240401T185245Z
UID:3938-1713809700-1713809700@harmonia138.org
SUMMARY:Stated Communication / Special Presentation
DESCRIPTION:W∴ M∴ TK Krumenacker of Harmonia Lodge 138 F.&A.M. and V.P. of Palm Beach Chapter of SAR\, honorably invites the Sons and Daughters of the American Revolution to join the Freemasons for dinner followed by presentations. \nOne of the most-loved\, most-admired Freemason and President will forever be George Washington. \n\nHonor Guard presented by Gulfstream Scout Council 013\nPresentation to SAR & DAR\nPresentation from SAR\n* A Tiled meeting will occur after guests are excused to the Fraternal Hall.\n\nRSVP – TK (561) 844-8888 or email: worshipfulmaster@harmonia138.org
URL:https://harmonia138.org/event/2024-04-22-harmonia-lodge-sons-of-the-revolution-present/
LOCATION:Harmonia Lodge No. 138 F & AM\, 1896 Palm Beach Lakes Blvd. #200\, West Palm Beach\, FL\, 33409\, United States
CATEGORIES:Masonic Presentation,Special Event
ATTACH;FMTTYPE=image/jpeg:https://harmonia138.org/wp-content/uploads/2024/03/2024-04-22-HL-SAR-George-Washington-Presentation.jpg
END:VEVENT
BEGIN:VEVENT
DTSTART;TZID=America/New_York:20240420T120000
DTEND;TZID=America/New_York:20240420T120000
DTSTAMP:20260421T004634
CREATED:20240401T182234Z
LAST-MODIFIED:20240401T221307Z
UID:3953-1713614400-1713614400@harmonia138.org
SUMMARY:Called Communication / Entered Apprentice Degree
DESCRIPTION:Lunch 12 pm – Noon / Degree 1 pm
URL:https://harmonia138.org/event/2024-04-20-called-communication-entered-apprentice-degree/
LOCATION:Harmonia Lodge No. 138 F & AM\, 1896 Palm Beach Lakes Blvd. #200\, West Palm Beach\, FL\, 33409\, United States
CATEGORIES:Called Communication,Entered Apprentice Degree
ATTACH;FMTTYPE=image/jpeg:https://harmonia138.org/wp-content/uploads/2024/04/2024-04-20-Called-Communication-Entered-Apprentice-Degree.jpg
END:VEVENT
BEGIN:VEVENT
DTSTART;TZID=America/New_York:20240408T181500
DTEND;TZID=America/New_York:20240408T181500
DTSTAMP:20260421T004634
CREATED:20240401T162244Z
LAST-MODIFIED:20240408T155805Z
UID:3946-1712600100-1712600100@harmonia138.org
SUMMARY:Stated Communication/York Rite Appendant Body Celebration
DESCRIPTION:Harmonia Lodge No. 138 F. & A.M.\nInvites York Rite Members and Master Mason Brothers to an Appendant Body Celebration\n \nHonoring the York Rite Bodies with a Flag Folding Ceremony of 13 folds from Sir Knights; W∴ Ray Rios\, Marc Denzau with a narration by Eminent Commander Casias Seals. \nA Circumnabulation of the Royal Master Council Degree\, conducted by W∴ Harry Bonet PIM & PHP. \n* YR Bodies may wear their colored jackets
URL:https://harmonia138.org/event/2024-04-08-stated-communication/
LOCATION:Harmonia Lodge No. 138 F & AM\, 1896 Palm Beach Lakes Blvd. #200\, West Palm Beach\, FL\, 33409\, United States
CATEGORIES:Masonic Presentation,Special Event,Stated Communication
ATTACH;FMTTYPE=image/jpeg:https://harmonia138.org/wp-content/uploads/2024/04/2024-04-08-YR-Appendant-Body-Celebration.jpg
END:VEVENT
BEGIN:VEVENT
DTSTART;TZID=America/New_York:20240325T181500
DTEND;TZID=America/New_York:20240325T181500
DTSTAMP:20260421T004634
CREATED:20240302T182555Z
LAST-MODIFIED:20240302T185553Z
UID:3925-1711390500-1711390500@harmonia138.org
SUMMARY:Stated Communication
DESCRIPTION:Meal 6:15 pm / Meeting 7:15 pm
URL:https://harmonia138.org/event/2024-03-25-stated-communication/
LOCATION:Harmonia Lodge No. 138 F & AM\, 1896 Palm Beach Lakes Blvd. #200\, West Palm Beach\, FL\, 33409\, United States
CATEGORIES:Stated Communication
ATTACH;FMTTYPE=image/jpeg:https://harmonia138.org/wp-content/uploads/2024/02/2024-03-25-Stated-Communication.jpg
END:VEVENT
BEGIN:VEVENT
DTSTART;TZID=America/New_York:20240311T181500
DTEND;TZID=America/New_York:20240311T181500
DTSTAMP:20260421T004634
CREATED:20240201T193534Z
LAST-MODIFIED:20240302T184433Z
UID:3902-1710180900-1710180900@harmonia138.org
SUMMARY:Called Communication / Master Mason Degree
DESCRIPTION:Master Mason Degree\nMeal 6:15 / Meeting 7:30
URL:https://harmonia138.org/event/2024-03-11-called-communication/
LOCATION:Harmonia Lodge No. 138 F & AM\, 1896 Palm Beach Lakes Blvd. #200\, West Palm Beach\, FL\, 33409\, United States
CATEGORIES:Called Communication,Master Mason Degree
ATTACH;FMTTYPE=image/jpeg:https://harmonia138.org/wp-content/uploads/2024/02/2024-03-11-Master-Mason-Degree.jpg
END:VEVENT
BEGIN:VEVENT
DTSTART;TZID=America/New_York:20240226T181500
DTEND;TZID=America/New_York:20240226T181500
DTSTAMP:20260421T004634
CREATED:20240201T191333Z
LAST-MODIFIED:20240212T210917Z
UID:3900-1708971300-1708971300@harmonia138.org
SUMMARY:Stated Communication
DESCRIPTION:Meal 6:15 / Meeting 7:30pm
URL:https://harmonia138.org/event/2024-02-26-stated-communication/
LOCATION:Harmonia Lodge No. 138 F & AM\, 1896 Palm Beach Lakes Blvd. #200\, West Palm Beach\, FL\, 33409\, United States
CATEGORIES:Stated Communication
ATTACH;FMTTYPE=image/jpeg:https://harmonia138.org/wp-content/uploads/2023/12/Stated-Communication.jpg
END:VEVENT
BEGIN:VEVENT
DTSTART;TZID=America/New_York:20240212T181500
DTEND;TZID=America/New_York:20240212T181500
DTSTAMP:20260421T004634
CREATED:20240201T191113Z
LAST-MODIFIED:20240212T213203Z
UID:3898-1707761700-1707761700@harmonia138.org
SUMMARY:Stated Communication
DESCRIPTION:Meal 6:15pm / Meeting 7:30pm
URL:https://harmonia138.org/event/2024-02-12-stated-communication/
LOCATION:Harmonia Lodge No. 138 F & AM\, 1896 Palm Beach Lakes Blvd. #200\, West Palm Beach\, FL\, 33409\, United States
CATEGORIES:Stated Communication
ATTACH;FMTTYPE=image/jpeg:https://harmonia138.org/wp-content/uploads/2023/12/Stated-Communication.jpg
END:VEVENT
BEGIN:VEVENT
DTSTART;TZID=America/New_York:20240127T120000
DTEND;TZID=America/New_York:20240127T120000
DTSTAMP:20260421T004634
CREATED:20231226T014430Z
LAST-MODIFIED:20240212T212747Z
UID:3848-1706356800-1706356800@harmonia138.org
SUMMARY:Harmonia Re-Dedication Ceremony w/Grand Lodge of Florida
DESCRIPTION:12:00 Ceremony & Meal to follow
URL:https://harmonia138.org/event/2024-01-27-harmonia-re-dedication-ceremony-w-grand-lodge-of-florida/
LOCATION:Harmonia Lodge No. 138 F & AM\, 1896 Palm Beach Lakes Blvd. #200\, West Palm Beach\, FL\, 33409\, United States
CATEGORIES:Re-Dedication Ceremony,Special Event
ATTACH;FMTTYPE=image/jpeg:https://harmonia138.org/wp-content/uploads/2023/12/130-year-Re-Dedication-Ceremony.jpg
END:VEVENT
BEGIN:VEVENT
DTSTART;TZID=America/New_York:20240122T181500
DTEND;TZID=America/New_York:20240122T181500
DTSTAMP:20260421T004634
CREATED:20231226T014252Z
LAST-MODIFIED:20240212T213142Z
UID:3846-1705947300-1705947300@harmonia138.org
SUMMARY:Stated Communication
DESCRIPTION:Meal 6:15 / Meeting 7:15
URL:https://harmonia138.org/event/2024-01-22-stated-communication/
LOCATION:Harmonia Lodge No. 138 F & AM\, 1896 Palm Beach Lakes Blvd. #200\, West Palm Beach\, FL\, 33409\, United States
CATEGORIES:Stated Communication
ATTACH;FMTTYPE=image/jpeg:https://harmonia138.org/wp-content/uploads/2023/12/Stated-Communication.jpg
END:VEVENT
BEGIN:VEVENT
DTSTART;TZID=America/New_York:20240108T181500
DTEND;TZID=America/New_York:20240108T181500
DTSTAMP:20260421T004634
CREATED:20231226T014134Z
LAST-MODIFIED:20240212T213119Z
UID:3844-1704737700-1704737700@harmonia138.org
SUMMARY:Stated Communication
DESCRIPTION:Meal 6:15 / Meeting 7:15
URL:https://harmonia138.org/event/2024-01-08-stated-communication/
LOCATION:Harmonia Lodge No. 138 F & AM\, 1896 Palm Beach Lakes Blvd. #200\, West Palm Beach\, FL\, 33409\, United States
CATEGORIES:Stated Communication
ATTACH;FMTTYPE=image/jpeg:https://harmonia138.org/wp-content/uploads/2023/12/Stated-Communication.jpg
END:VEVENT
BEGIN:VEVENT
DTSTART;TZID=America/New_York:20240106T160000
DTEND;TZID=America/New_York:20240106T160000
DTSTAMP:20260421T004634
CREATED:20231226T012202Z
LAST-MODIFIED:20240212T213051Z
UID:3835-1704556800-1704556800@harmonia138.org
SUMMARY:Installation of Officers
DESCRIPTION:Friends & Family Welcome\nMeal & Installation 4:00 pm
URL:https://harmonia138.org/event/2024-installation-of-officers/
LOCATION:Harmonia Lodge No. 138 F & AM\, 1896 Palm Beach Lakes Blvd. #200\, West Palm Beach\, FL\, 33409\, United States
CATEGORIES:Officer Installation
ATTACH;FMTTYPE=image/jpeg:https://harmonia138.org/wp-content/uploads/2023/12/Officer-Installation.jpg
END:VEVENT
BEGIN:VEVENT
DTSTART;VALUE=DATE:20231224
DTEND;VALUE=DATE:20231226
DTSTAMP:20260421T004634
CREATED:20231130T231720Z
LAST-MODIFIED:20231208T071542Z
UID:3807-1703444400-1703530799@harmonia138.org
SUMMARY:LODGE IS DARK
DESCRIPTION:For the Holidays
URL:https://harmonia138.org/event/lodge-is-dark-12-25-2023/
LOCATION:Harmonia Lodge No. 138 F & AM\, 1896 Palm Beach Lakes Blvd. #200\, West Palm Beach\, FL\, 33409\, United States
CATEGORIES:Lodge is Dark
ATTACH;FMTTYPE=image/jpeg:https://harmonia138.org/wp-content/uploads/2023/11/Lodge-is-Dark.jpg
END:VEVENT
END:VCALENDAR