BEGIN:VCALENDAR
VERSION:2.0
PRODID:-//Harmonia138.org - ECPv6.15.20//NONSGML v1.0//EN
CALSCALE:GREGORIAN
METHOD:PUBLISH
X-WR-CALNAME:Harmonia138.org
X-ORIGINAL-URL:https://harmonia138.org
X-WR-CALDESC:Events for Harmonia138.org
REFRESH-INTERVAL;VALUE=DURATION:PT1H
X-Robots-Tag:noindex
X-PUBLISHED-TTL:PT1H
BEGIN:VTIMEZONE
TZID:America/New_York
BEGIN:DAYLIGHT
TZOFFSETFROM:-0500
TZOFFSETTO:-0400
TZNAME:EDT
DTSTART:20250309T070000
END:DAYLIGHT
BEGIN:STANDARD
TZOFFSETFROM:-0400
TZOFFSETTO:-0500
TZNAME:EST
DTSTART:20251102T060000
END:STANDARD
BEGIN:DAYLIGHT
TZOFFSETFROM:-0500
TZOFFSETTO:-0400
TZNAME:EDT
DTSTART:20260308T070000
END:DAYLIGHT
BEGIN:STANDARD
TZOFFSETFROM:-0400
TZOFFSETTO:-0500
TZNAME:EST
DTSTART:20261101T060000
END:STANDARD
BEGIN:DAYLIGHT
TZOFFSETFROM:-0500
TZOFFSETTO:-0400
TZNAME:EDT
DTSTART:20270314T070000
END:DAYLIGHT
BEGIN:STANDARD
TZOFFSETFROM:-0400
TZOFFSETTO:-0500
TZNAME:EST
DTSTART:20271107T060000
END:STANDARD
END:VTIMEZONE
BEGIN:VEVENT
DTSTART;TZID=America/New_York:20260110T100000
DTEND;TZID=America/New_York:20260110T120000
DTSTAMP:20260420T182615
CREATED:20251228T233501Z
LAST-MODIFIED:20251228T235536Z
UID:4727-1768039200-1768046400@harmonia138.org
SUMMARY:Installation of Officers
DESCRIPTION:Installation starts at 10:00 AM
URL:https://harmonia138.org/event/installation-of-officers/
LOCATION:Harmonia Lodge No. 138 F & AM\, 1896 Palm Beach Lakes Blvd. #200\, West Palm Beach\, FL\, 33409\, United States
CATEGORIES:Officer Installation
ATTACH;FMTTYPE=image/png:https://harmonia138.org/wp-content/uploads/2025/12/installation-2026.png
END:VEVENT
BEGIN:VEVENT
DTSTART;TZID=America/New_York:20260112T193000
DTEND;TZID=America/New_York:20260112T213000
DTSTAMP:20260420T182615
CREATED:20260106T192841Z
LAST-MODIFIED:20260106T192841Z
UID:4747-1768246200-1768253400@harmonia138.org
SUMMARY:Stated Communication
DESCRIPTION:Dinner 6:00 PM \n 
URL:https://harmonia138.org/event/stated-communication/
LOCATION:Harmonia Lodge No. 138 F & AM\, 1896 Palm Beach Lakes Blvd. #200\, West Palm Beach\, FL\, 33409\, United States
CATEGORIES:Stated Communication
ATTACH;FMTTYPE=image/png:https://harmonia138.org/wp-content/uploads/2026/01/SC-01-12.png
END:VEVENT
BEGIN:VEVENT
DTSTART;TZID=America/New_York:20260126T193000
DTEND;TZID=America/New_York:20260126T213000
DTSTAMP:20260420T182615
CREATED:20260106T193100Z
LAST-MODIFIED:20260106T193137Z
UID:4749-1769455800-1769463000@harmonia138.org
SUMMARY:Stated Communication
DESCRIPTION:Dinner 6:00 PM
URL:https://harmonia138.org/event/stated-communication-2/
LOCATION:Harmonia Lodge No. 138 F & AM\, 1896 Palm Beach Lakes Blvd. #200\, West Palm Beach\, FL\, 33409\, United States
CATEGORIES:Stated Communication
ATTACH;FMTTYPE=image/png:https://harmonia138.org/wp-content/uploads/2026/01/SC-01-26.png
END:VEVENT
BEGIN:VEVENT
DTSTART;TZID=America/New_York:20260209T180000
DTEND;TZID=America/New_York:20260209T203000
DTSTAMP:20260420T182615
CREATED:20260202T120645Z
LAST-MODIFIED:20260202T120713Z
UID:4813-1770660000-1770669000@harmonia138.org
SUMMARY:Stated Communication
DESCRIPTION:Dinner 6:00 PM
URL:https://harmonia138.org/event/stated-communication-3/
LOCATION:Harmonia Lodge No. 138 F & AM\, 1896 Palm Beach Lakes Blvd. #200\, West Palm Beach\, FL\, 33409\, United States
CATEGORIES:Stated Communication
ATTACH;FMTTYPE=image/png:https://harmonia138.org/wp-content/uploads/2026/02/SC-02-09.png
END:VEVENT
BEGIN:VEVENT
DTSTART;TZID=America/New_York:20260223T180000
DTEND;TZID=America/New_York:20260223T203000
DTSTAMP:20260420T182615
CREATED:20260202T120826Z
LAST-MODIFIED:20260202T120826Z
UID:4816-1771869600-1771878600@harmonia138.org
SUMMARY:Stated Communication
DESCRIPTION:Dinner 6:00 PM
URL:https://harmonia138.org/event/stated-communication-4/
LOCATION:Harmonia Lodge No. 138 F & AM\, 1896 Palm Beach Lakes Blvd. #200\, West Palm Beach\, FL\, 33409\, United States
CATEGORIES:Stated Communication
ATTACH;FMTTYPE=image/png:https://harmonia138.org/wp-content/uploads/2026/02/SC-02-23.png
END:VEVENT
BEGIN:VEVENT
DTSTART;VALUE=DATE:20260309
DTEND;VALUE=DATE:20260310
DTSTAMP:20260420T182615
CREATED:20260303T025341Z
LAST-MODIFIED:20260317T234731Z
UID:4825-1773014400-1773100799@harmonia138.org
SUMMARY:Stated Communication
DESCRIPTION:Dinner 6:15 PM | Meeting 7:30 PM
URL:https://harmonia138.org/event/stated-communication-5/
LOCATION:Harmonia Lodge No. 138 F & AM\, 1896 Palm Beach Lakes Blvd. #200\, West Palm Beach\, FL\, 33409\, United States
CATEGORIES:Stated Communication
ATTACH;FMTTYPE=image/png:https://harmonia138.org/wp-content/uploads/2026/03/SC-03-09.png
END:VEVENT
BEGIN:VEVENT
DTSTART;TZID=America/New_York:20260323T181500
DTEND;TZID=America/New_York:20260323T210000
DTSTAMP:20260420T182615
CREATED:20260303T025518Z
LAST-MODIFIED:20260303T025518Z
UID:4830-1774289700-1774299600@harmonia138.org
SUMMARY:Stated Communication
DESCRIPTION:Dinner 6:15 PM | Meeting 7:30 PM
URL:https://harmonia138.org/event/stated-communication-6/
LOCATION:Harmonia Lodge No. 138 F & AM\, 1896 Palm Beach Lakes Blvd. #200\, West Palm Beach\, FL\, 33409\, United States
CATEGORIES:Stated Communication
ATTACH;FMTTYPE=image/png:https://harmonia138.org/wp-content/uploads/2026/03/SC-03-23.png
END:VEVENT
BEGIN:VEVENT
DTSTART;TZID=America/New_York:20260410T163000
DTEND;TZID=America/New_York:20260410T163000
DTSTAMP:20260420T182615
CREATED:20260403T005611Z
LAST-MODIFIED:20260403T005622Z
UID:4845-1775838600-1775838600@harmonia138.org
SUMMARY:Visit to Grandma's Place
DESCRIPTION:Event starts at 4:30 PM
URL:https://harmonia138.org/event/visit-to-grandmas-place/
LOCATION:Grandma’s Place\, 184 Sparrow Dr\, Royal Palm Brach\, FL\, 33411\, United States
CATEGORIES:Special Event,Visit to Grandma's Place
ATTACH;FMTTYPE=image/png:https://harmonia138.org/wp-content/uploads/2026/04/GP-VISIT-04-10.png
END:VEVENT
BEGIN:VEVENT
DTSTART;TZID=America/New_York:20260413T183000
DTEND;TZID=America/New_York:20260413T183000
DTSTAMP:20260420T182615
CREATED:20260403T005017Z
LAST-MODIFIED:20260403T012356Z
UID:4841-1776105000-1776105000@harmonia138.org
SUMMARY:Stated Communication
DESCRIPTION:Dinner 6:30 PM | Meeting 7:30 PM
URL:https://harmonia138.org/event/stated-communication-7/
LOCATION:Harmonia Lodge No. 138 F & AM\, 1896 Palm Beach Lakes Blvd. #200\, West Palm Beach\, FL\, 33409\, United States
CATEGORIES:Stated Communication
ATTACH;FMTTYPE=image/png:https://harmonia138.org/wp-content/uploads/2026/04/SC-04-13.png
END:VEVENT
BEGIN:VEVENT
DTSTART;TZID=America/New_York:20260427T183000
DTEND;TZID=America/New_York:20260427T183000
DTSTAMP:20260420T182615
CREATED:20260403T005132Z
LAST-MODIFIED:20260403T012432Z
UID:4843-1777314600-1777314600@harmonia138.org
SUMMARY:Stated Communication
DESCRIPTION:Dinner 6:30 PM | Meeting 7:30 PM
URL:https://harmonia138.org/event/stated-communication-8/
LOCATION:Harmonia Lodge No. 138 F & AM\, 1896 Palm Beach Lakes Blvd. #200\, West Palm Beach\, FL\, 33409\, United States
CATEGORIES:Stated Communication
ATTACH;FMTTYPE=image/png:https://harmonia138.org/wp-content/uploads/2026/04/SC-04-27.png
END:VEVENT
END:VCALENDAR