BEGIN:VCALENDAR
VERSION:2.0
PRODID:-//Harmonia138.org - ECPv6.15.20//NONSGML v1.0//EN
CALSCALE:GREGORIAN
METHOD:PUBLISH
X-WR-CALNAME:Harmonia138.org
X-ORIGINAL-URL:https://harmonia138.org
X-WR-CALDESC:Events for Harmonia138.org
REFRESH-INTERVAL;VALUE=DURATION:PT1H
X-Robots-Tag:noindex
X-PUBLISHED-TTL:PT1H
BEGIN:VTIMEZONE
TZID:America/New_York
BEGIN:DAYLIGHT
TZOFFSETFROM:-0500
TZOFFSETTO:-0400
TZNAME:EDT
DTSTART:20230312T070000
END:DAYLIGHT
BEGIN:STANDARD
TZOFFSETFROM:-0400
TZOFFSETTO:-0500
TZNAME:EST
DTSTART:20231105T060000
END:STANDARD
BEGIN:DAYLIGHT
TZOFFSETFROM:-0500
TZOFFSETTO:-0400
TZNAME:EDT
DTSTART:20240310T070000
END:DAYLIGHT
BEGIN:STANDARD
TZOFFSETFROM:-0400
TZOFFSETTO:-0500
TZNAME:EST
DTSTART:20241103T060000
END:STANDARD
BEGIN:DAYLIGHT
TZOFFSETFROM:-0500
TZOFFSETTO:-0400
TZNAME:EDT
DTSTART:20250309T070000
END:DAYLIGHT
BEGIN:STANDARD
TZOFFSETFROM:-0400
TZOFFSETTO:-0500
TZNAME:EST
DTSTART:20251102T060000
END:STANDARD
BEGIN:DAYLIGHT
TZOFFSETFROM:-0500
TZOFFSETTO:-0400
TZNAME:EDT
DTSTART:20260308T070000
END:DAYLIGHT
BEGIN:STANDARD
TZOFFSETFROM:-0400
TZOFFSETTO:-0500
TZNAME:EST
DTSTART:20261101T060000
END:STANDARD
END:VTIMEZONE
BEGIN:VEVENT
DTSTART;TZID=America/New_York:20251027T183000
DTEND;TZID=America/New_York:20251027T220000
DTSTAMP:20260420T215316
CREATED:20251010T005655Z
LAST-MODIFIED:20251010T005858Z
UID:4624-1761589800-1761602400@harmonia138.org
SUMMARY:Adopt A School Night / Stated Communication
DESCRIPTION:Dinner 6:30 PM / Meeting 7:30 PM
URL:https://harmonia138.org/event/2025-10-13-adopt-a-school-night-stated-communication/
LOCATION:Harmonia Lodge No. 138 F & AM\, 1896 Palm Beach Lakes Blvd. #200\, West Palm Beach\, FL\, 33409\, United States
CATEGORIES:Adopt a School,Special Event
ATTACH;FMTTYPE=image/png:https://harmonia138.org/wp-content/uploads/2025/10/2025-10-27-ADOPT-A-SCHOOL-NIGHT-2.png
END:VEVENT
BEGIN:VEVENT
DTSTART;TZID=America/New_York:20251014T183000
DTEND;TZID=America/New_York:20251014T220000
DTSTAMP:20260420T215316
CREATED:20251002T204825Z
LAST-MODIFIED:20251003T023710Z
UID:4586-1760466600-1760479200@harmonia138.org
SUMMARY:Empty Chair Degree / Stated Communication
DESCRIPTION:Dinner 6:30 PM / Meeting 7:30 PM
URL:https://harmonia138.org/event/2025-10-13-empty-chair-degree/
LOCATION:Harmonia Lodge No. 138 F & AM\, 1896 Palm Beach Lakes Blvd. #200\, West Palm Beach\, FL\, 33409\, United States
CATEGORIES:Empty Chair
ATTACH;FMTTYPE=image/png:https://harmonia138.org/wp-content/uploads/2025/10/2025-10-13-EMPTY-CHAIR-DEGREE-1.png
END:VEVENT
BEGIN:VEVENT
DTSTART;TZID=America/New_York:20250922T181500
DTEND;TZID=America/New_York:20250922T181500
DTSTAMP:20260420T215316
CREATED:20250904T012330Z
LAST-MODIFIED:20250904T012816Z
UID:4560-1758564900-1758564900@harmonia138.org
SUMMARY:DDGM Official Visit - Meet & Greet / Stated Communication
DESCRIPTION:Meal 6:15 PM / Meeting 7:30 PM
URL:https://harmonia138.org/event/2025-09-22-ddgm-official-visit-stated-communication/
LOCATION:Harmonia Lodge No. 138 F & AM\, 1896 Palm Beach Lakes Blvd. #200\, West Palm Beach\, FL\, 33409\, United States
CATEGORIES:DDGM Visit,Meet & Greet,Special Event,Stated Communication
ATTACH;FMTTYPE=image/png:https://harmonia138.org/wp-content/uploads/2025/09/2025-09-22-ELIZABETH-ACCOMANDO-TN.png
END:VEVENT
BEGIN:VEVENT
DTSTART;TZID=America/New_York:20250908T183000
DTEND;TZID=America/New_York:20250908T183000
DTSTAMP:20260420T215316
CREATED:20250819T224443Z
LAST-MODIFIED:20250904T011356Z
UID:4424-1757356200-1757356200@harmonia138.org
SUMMARY:Scouts Award Day & Public Servants Awards / Stated Communication
DESCRIPTION:Dinner: 6:30 PM
URL:https://harmonia138.org/event/2025-09-08-scout-award-day/
LOCATION:Harmonia Lodge No. 138 F & AM\, 1896 Palm Beach Lakes Blvd. #200\, West Palm Beach\, FL\, 33409\, United States
CATEGORIES:Scouts Award Day,Special Event
ATTACH;FMTTYPE=image/png:https://harmonia138.org/wp-content/uploads/2025/08/2025-09-08-SCOUTS-AWARD-DAY-TN.png
END:VEVENT
BEGIN:VEVENT
DTSTART;TZID=America/New_York:20250906T180000
DTEND;TZID=America/New_York:20250906T220000
DTSTAMP:20260420T215316
CREATED:20250819T223137Z
LAST-MODIFIED:20250819T225707Z
UID:4418-1757181600-1757196000@harmonia138.org
SUMMARY:Junior Grand Warden Homecoming
DESCRIPTION:Doors Open: 6 Pm – 10 PM
URL:https://harmonia138.org/event/2025-09-06-junior-grand-warden-homecoming/
LOCATION:Amara Shrine\, 1900 Palm Beach Lakes Blvd.\, WEST PALM BEACH\, FL\, 33409\, United States
CATEGORIES:Appendant Body Celebration,Junior Grand Warden Homecoming,Special Event
ATTACH;FMTTYPE=image/jpeg:https://harmonia138.org/wp-content/uploads/2025/08/2025-09-06-JGW-HOMECOMING.jpg
END:VEVENT
BEGIN:VEVENT
DTSTART;TZID=America/New_York:20250825T190000
DTEND;TZID=America/New_York:20250825T190000
DTSTAMP:20260420T215316
CREATED:20250802T003056Z
LAST-MODIFIED:20250819T221156Z
UID:4400-1756148400-1756148400@harmonia138.org
SUMMARY:Family Game Night ~ (No Stated Communication)
DESCRIPTION:Event Starts at 7:00 pm
URL:https://harmonia138.org/event/2025-08-25-family-game-night/
LOCATION:Harmonia Lodge No. 138 F & AM\, 1896 Palm Beach Lakes Blvd. #200\, West Palm Beach\, FL\, 33409\, United States
CATEGORIES:Game Night,Special Event
ATTACH;FMTTYPE=image/jpeg:https://harmonia138.org/wp-content/uploads/2025/08/2025-08-25-GN.jpg
END:VEVENT
BEGIN:VEVENT
DTSTART;TZID=America/New_York:20250825T183000
DTEND;TZID=America/New_York:20250825T183000
DTSTAMP:20260420T215316
CREATED:20250819T221908Z
LAST-MODIFIED:20250819T222359Z
UID:4413-1756146600-1756146600@harmonia138.org
SUMMARY:JROTC Presentation ~ (No Stated Communication)
DESCRIPTION:Dinner: 6:30 PM / Presentation 7:30 PM
URL:https://harmonia138.org/event/2025-08-25-jrotc-presentation/
LOCATION:Harmonia Lodge No. 138 F & AM\, 1896 Palm Beach Lakes Blvd. #200\, West Palm Beach\, FL\, 33409\, United States
CATEGORIES:JROTC Presentation,Special Event
ATTACH;FMTTYPE=image/png:https://harmonia138.org/wp-content/uploads/2025/08/2025-08-25-JROTC-PRESENTATION.png
END:VEVENT
BEGIN:VEVENT
DTSTART;TZID=America/New_York:20250823T110000
DTEND;TZID=America/New_York:20250823T110000
DTSTAMP:20260420T215316
CREATED:20250802T002349Z
LAST-MODIFIED:20250802T002410Z
UID:4397-1755946800-1755946800@harmonia138.org
SUMMARY:Fellowcraft Degree - Called Communication
DESCRIPTION:Snacks 11am /Degree 12 pm
URL:https://harmonia138.org/event/2025-08-23-fellowcraft-degree-called-communication/
LOCATION:Harmonia Lodge No. 138 F & AM\, 1896 Palm Beach Lakes Blvd. #200\, West Palm Beach\, FL\, 33409\, United States
CATEGORIES:Called Communication,Fellow Craft Degree
ATTACH;FMTTYPE=image/jpeg:https://harmonia138.org/wp-content/uploads/2025/08/2025-08-23-FDCC.jpg
END:VEVENT
BEGIN:VEVENT
DTSTART;TZID=America/New_York:20250811T181500
DTEND;TZID=America/New_York:20250811T181500
DTSTAMP:20260420T215316
CREATED:20250802T001127Z
LAST-MODIFIED:20250802T001459Z
UID:4393-1754936100-1754936100@harmonia138.org
SUMMARY:Re-Obligation Night / Stated Communication
DESCRIPTION:Meal 6:15 / Meeting 7:30 pm
URL:https://harmonia138.org/event/2025-08-11-re-obligation-night-stated-communication/
LOCATION:Harmonia Lodge No. 138 F & AM\, 1896 Palm Beach Lakes Blvd. #200\, West Palm Beach\, FL\, 33409\, United States
CATEGORIES:Re-Obligation Night,Stated Communication
ATTACH;FMTTYPE=image/jpeg:https://harmonia138.org/wp-content/uploads/2025/08/2025-08-11-SC.jpg
END:VEVENT
BEGIN:VEVENT
DTSTART;TZID=America/New_York:20250728T181500
DTEND;TZID=America/New_York:20250728T181500
DTSTAMP:20260420T215316
CREATED:20250704T145103Z
LAST-MODIFIED:20250704T173448Z
UID:4379-1753726500-1753726500@harmonia138.org
SUMMARY:Stated Communication / Public Servant Night
DESCRIPTION:Meal 6:15 / Meeting 7:15
URL:https://harmonia138.org/event/2025-07-28-stated-communication-public-servant-night/
LOCATION:Harmonia Lodge No. 138 F & AM\, 1896 Palm Beach Lakes Blvd. #200\, West Palm Beach\, FL\, 33409\, United States
CATEGORIES:Public Servant Night,Stated Communication
ATTACH;FMTTYPE=image/jpeg:https://harmonia138.org/wp-content/uploads/2025/07/2025-07-28-SC.jpg
END:VEVENT
BEGIN:VEVENT
DTSTART;TZID=America/New_York:20250714T193000
DTEND;TZID=America/New_York:20250714T193000
DTSTAMP:20260420T215316
CREATED:20250704T144830Z
LAST-MODIFIED:20250704T174827Z
UID:4377-1752521400-1752521400@harmonia138.org
SUMMARY:Called Communication / Masonic Table Lodge
DESCRIPTION:Honoring R∴ H∴ Ray Rios\nFull 4-course meal & Stein\, Tickets limited\, $50 each\, Dinner 7:30 pm
URL:https://harmonia138.org/event/2025-07-14-called-communication-masonic-table-lodge/
LOCATION:Harmonia Lodge No. 138 F & AM\, 1896 Palm Beach Lakes Blvd. #200\, West Palm Beach\, FL\, 33409\, United States
CATEGORIES:Called Communication,Masonic Table Lodge
ATTACH;FMTTYPE=image/jpeg:https://harmonia138.org/wp-content/uploads/2025/07/2025-07-14-SC-MTL-RH-Ray-Rios.jpg
END:VEVENT
BEGIN:VEVENT
DTSTART;TZID=America/New_York:20250531T110000
DTEND;TZID=America/New_York:20250531T110000
DTSTAMP:20260420T215316
CREATED:20250508T173917Z
LAST-MODIFIED:20250508T191234Z
UID:4355-1748689200-1748689200@harmonia138.org
SUMMARY:Scout Graduation
DESCRIPTION:
URL:https://harmonia138.org/event/2025-05-31-scout-graduation/
LOCATION:Harmonia Lodge No. 138 F & AM\, 1896 Palm Beach Lakes Blvd. #200\, West Palm Beach\, FL\, 33409\, United States
CATEGORIES:Scout Graduation,Special Event
ATTACH;FMTTYPE=image/jpeg:https://harmonia138.org/wp-content/uploads/2025/05/25-5-31-SCOUT-GRAD-DAY.jpg
END:VEVENT
BEGIN:VEVENT
DTSTART;VALUE=DATE:20250526
DTEND;VALUE=DATE:20250527
DTSTAMP:20260420T215316
CREATED:20250508T154435Z
LAST-MODIFIED:20250508T170852Z
UID:4336-1748217600-1748303999@harmonia138.org
SUMMARY:LODGE IS DARK
DESCRIPTION:
URL:https://harmonia138.org/event/2025-05-26-lodge-is-dark/
LOCATION:Harmonia Lodge No. 138 F & AM\, 1896 Palm Beach Lakes Blvd. #200\, West Palm Beach\, FL\, 33409\, United States
CATEGORIES:Lodge is Dark
ATTACH;FMTTYPE=image/jpeg:https://harmonia138.org/wp-content/uploads/2023/11/Lodge-is-Dark.jpg
END:VEVENT
BEGIN:VEVENT
DTSTART;TZID=America/New_York:20250517T120000
DTEND;TZID=America/New_York:20250517T120000
DTSTAMP:20260420T215316
CREATED:20250331T140038Z
LAST-MODIFIED:20250508T173251Z
UID:4289-1747483200-1747483200@harmonia138.org
SUMMARY:Called Communication / Master Mason Degree
DESCRIPTION:Meal 12 pm / Meeting 1 pm
URL:https://harmonia138.org/event/2025-05-17-called-communication-master-mason-degree/
LOCATION:Harmonia Lodge No. 138 F & AM\, 1896 Palm Beach Lakes Blvd. #200\, West Palm Beach\, FL\, 33409\, United States
CATEGORIES:Called Communication,Master Mason Degree,Stated Communication
ATTACH;FMTTYPE=image/jpeg:https://harmonia138.org/wp-content/uploads/2025/03/2025-05-17-SC-MM-Degree.jpg
END:VEVENT
BEGIN:VEVENT
DTSTART;TZID=America/New_York:20250512T181500
DTEND;TZID=America/New_York:20250512T181500
DTSTAMP:20260420T215316
CREATED:20250508T154924Z
LAST-MODIFIED:20250508T173127Z
UID:4333-1747073700-1747073700@harmonia138.org
SUMMARY:Stated Communication
DESCRIPTION:Meal 6:15 pm / Meeting 7:30 pm
URL:https://harmonia138.org/event/2025-05-12-stated-communication/
LOCATION:Harmonia Lodge No. 138 F & AM\, 1896 Palm Beach Lakes Blvd. #200\, West Palm Beach\, FL\, 33409\, United States
CATEGORIES:Stated Communication
ATTACH;FMTTYPE=image/jpeg:https://harmonia138.org/wp-content/uploads/2023/12/Stated-Communication.jpg
END:VEVENT
BEGIN:VEVENT
DTSTART;TZID=America/New_York:20250508T120000
DTEND;TZID=America/New_York:20250508T120000
DTSTAMP:20260420T215316
CREATED:20250508T165646Z
LAST-MODIFIED:20250508T170329Z
UID:4343-1746705600-1746705600@harmonia138.org
SUMMARY:Called Communication
DESCRIPTION:
URL:https://harmonia138.org/event/2025-05-08-called-communication/
LOCATION:Harmonia Lodge No. 138 F & AM\, 1896 Palm Beach Lakes Blvd. #200\, West Palm Beach\, FL\, 33409\, United States
CATEGORIES:Called Communication,Master Mason Degree
ATTACH;FMTTYPE=image/jpeg:https://harmonia138.org/wp-content/uploads/2025/03/2025-05-17-SC-MM-Degree.jpg
END:VEVENT
BEGIN:VEVENT
DTSTART;TZID=America/New_York:20250428T183000
DTEND;TZID=America/New_York:20250428T183000
DTSTAMP:20260420T215316
CREATED:20250331T135535Z
LAST-MODIFIED:20250331T135535Z
UID:4287-1745865000-1745865000@harmonia138.org
SUMMARY:Stated Communication / Public Educator Award Presentation
DESCRIPTION:
URL:https://harmonia138.org/event/2025-04-28-stated-communication-public-educator-award-presentation/
LOCATION:Harmonia Lodge No. 138 F & AM\, 1896 Palm Beach Lakes Blvd. #200\, West Palm Beach\, FL\, 33409\, United States
CATEGORIES:Public Educator Award Presentation,Stated Communication
ATTACH;FMTTYPE=image/jpeg:https://harmonia138.org/wp-content/uploads/2025/03/2025-04-25-SC-Public-Educator-Award-Presentation.jpg
END:VEVENT
BEGIN:VEVENT
DTSTART;TZID=America/New_York:20250414T183000
DTEND;TZID=America/New_York:20250414T183000
DTSTAMP:20260420T215316
CREATED:20250331T135109Z
LAST-MODIFIED:20250331T140908Z
UID:4285-1744655400-1744655400@harmonia138.org
SUMMARY:Stated Communication / Entered Apprentice Degree
DESCRIPTION:
URL:https://harmonia138.org/event/2025-04-14-stated-communication-entered-apprentice-degree/
LOCATION:Harmonia Lodge No. 138 F & AM\, 1896 Palm Beach Lakes Blvd. #200\, West Palm Beach\, FL\, 33409\, United States
CATEGORIES:Entered Apprentice Degree,Stated Communication
ATTACH;FMTTYPE=image/jpeg:https://harmonia138.org/wp-content/uploads/2025/03/2025-04-14-SC-EA-Degree.jpg
END:VEVENT
BEGIN:VEVENT
DTSTART;TZID=America/New_York:20250412T090000
DTEND;TZID=America/New_York:20250412T090000
DTSTAMP:20260420T215316
CREATED:20250331T134238Z
LAST-MODIFIED:20250331T134238Z
UID:4283-1744448400-1744448400@harmonia138.org
SUMMARY:Visit Our Veterans Day
DESCRIPTION:
URL:https://harmonia138.org/event/2025-04-12-visit-our-veterans-day/
LOCATION:Harmonia Lodge No. 138 F & AM\, 1896 Palm Beach Lakes Blvd. #200\, West Palm Beach\, FL\, 33409\, United States
CATEGORIES:Visit Our Veterans Day
ATTACH;FMTTYPE=image/jpeg:https://harmonia138.org/wp-content/uploads/2025/03/2025-04-12-SC-Visit-Our-Veterans-Day.jpg
END:VEVENT
BEGIN:VEVENT
DTSTART;TZID=America/New_York:20250324T181500
DTEND;TZID=America/New_York:20250324T181500
DTSTAMP:20260420T215316
CREATED:20250303T173515Z
LAST-MODIFIED:20250303T173623Z
UID:4273-1742840100-1742840100@harmonia138.org
SUMMARY:Stated Communication
DESCRIPTION:Meal 6:15 / Degree 7:15
URL:https://harmonia138.org/event/2025-03-24-stated-communication/
LOCATION:Harmonia Lodge No. 138 F & AM\, 1896 Palm Beach Lakes Blvd. #200\, West Palm Beach\, FL\, 33409\, United States
CATEGORIES:Stated Communication
ATTACH;FMTTYPE=image/jpeg:https://harmonia138.org/wp-content/uploads/2025/03/2025-03-24-Stated-Communication.jpg
END:VEVENT
BEGIN:VEVENT
DTSTART;TZID=America/New_York:20250322T080000
DTEND;TZID=America/New_York:20250322T100000
DTSTAMP:20260420T215316
CREATED:20250120T124506Z
LAST-MODIFIED:20250120T124527Z
UID:4180-1742630400-1742637600@harmonia138.org
SUMMARY:Beach Clean Up
DESCRIPTION:
URL:https://harmonia138.org/event/2025-03-22-beach-clean-up/
LOCATION:Harmonia Lodge No. 138 F & AM\, 1896 Palm Beach Lakes Blvd. #200\, West Palm Beach\, FL\, 33409\, United States
CATEGORIES:Beach Clean Up
ATTACH;FMTTYPE=image/jpeg:https://harmonia138.org/wp-content/uploads/2025/01/2025-03-22-Beach-Clean-up.jpg
END:VEVENT
BEGIN:VEVENT
DTSTART;TZID=America/New_York:20250310T181500
DTEND;TZID=America/New_York:20250310T181500
DTSTAMP:20260420T215316
CREATED:20250303T173335Z
LAST-MODIFIED:20250303T173547Z
UID:4271-1741630500-1741630500@harmonia138.org
SUMMARY:Stated Communication / DDGM Official Visit
DESCRIPTION:Meal 6:15 / Degree 7:15
URL:https://harmonia138.org/event/2025-03-10-stated-communication-ddgm-official-visit/
LOCATION:Harmonia Lodge No. 138 F & AM\, 1896 Palm Beach Lakes Blvd. #200\, West Palm Beach\, FL\, 33409\, United States
CATEGORIES:DDGM Visit,Special Event,Stated Communication
ATTACH;FMTTYPE=image/jpeg:https://harmonia138.org/wp-content/uploads/2025/03/2025-03-10-DDGM-Stated-Communication.jpg
END:VEVENT
BEGIN:VEVENT
DTSTART;TZID=America/New_York:20250301T000000
DTEND;TZID=America/New_York:20250301T000000
DTSTAMP:20260420T215316
CREATED:20250120T124300Z
LAST-MODIFIED:20250120T124300Z
UID:4177-1740787200-1740787200@harmonia138.org
SUMMARY:Beach Party
DESCRIPTION:
URL:https://harmonia138.org/event/2025-03-01-beach-party/
LOCATION:FL
CATEGORIES:Beach Party
ATTACH;FMTTYPE=image/jpeg:https://harmonia138.org/wp-content/uploads/2025/01/2025-03-01-Beach-Party.jpg
END:VEVENT
BEGIN:VEVENT
DTSTART;TZID=America/New_York:20250224T181500
DTEND;TZID=America/New_York:20250224T181500
DTSTAMP:20260420T215316
CREATED:20250203T001424Z
LAST-MODIFIED:20250203T001537Z
UID:4235-1740420900-1740420900@harmonia138.org
SUMMARY:Called Communication/Fellow Craft Degree
DESCRIPTION:Meal 6:15 / Meeting 7:15
URL:https://harmonia138.org/event/2025-02-24-called-communication-fellow-craft-degree/
LOCATION:Harmonia Lodge No. 138 F & AM\, 1896 Palm Beach Lakes Blvd. #200\, West Palm Beach\, FL\, 33409\, United States
CATEGORIES:Called Communication,Fellow Craft Degree
ATTACH;FMTTYPE=image/jpeg:https://harmonia138.org/wp-content/uploads/2025/02/2025-02-24-Called-Communication-Fellow-Craft-Degree.jpg
END:VEVENT
BEGIN:VEVENT
DTSTART;TZID=America/New_York:20250210T181500
DTEND;TZID=America/New_York:20250210T181500
DTSTAMP:20260420T215316
CREATED:20250203T002010Z
LAST-MODIFIED:20250203T003215Z
UID:4240-1739211300-1739211300@harmonia138.org
SUMMARY:Stated Communication
DESCRIPTION:Meal 6:15 / Meeting 7:15
URL:https://harmonia138.org/event/2025-02-10-stated-communication/
LOCATION:Harmonia Lodge No. 138 F & AM\, 1896 Palm Beach Lakes Blvd. #200\, West Palm Beach\, FL\, 33409\, United States
CATEGORIES:Stated Communication
ATTACH;FMTTYPE=image/jpeg:https://harmonia138.org/wp-content/uploads/2025/02/2025-02-10-Stated-Communication.jpg
END:VEVENT
BEGIN:VEVENT
DTSTART;TZID=America/New_York:20250201T100000
DTEND;TZID=America/New_York:20250201T100000
DTSTAMP:20260420T215316
CREATED:20250120T123659Z
LAST-MODIFIED:20250508T164849Z
UID:4165-1738404000-1738404000@harmonia138.org
SUMMARY:Bible & Apron Ceremony
DESCRIPTION:
URL:https://harmonia138.org/event/2025-02-01-bible-and-apron-ceremony/
LOCATION:Harmonia Lodge No. 138 F & AM\, 1896 Palm Beach Lakes Blvd. #200\, West Palm Beach\, FL\, 33409\, United States
CATEGORIES:Bible & Apron Ceremony
ATTACH;FMTTYPE=image/jpeg:https://harmonia138.org/wp-content/uploads/2025/01/2025-02-01-Bible-and-Apron.jpg
END:VEVENT
BEGIN:VEVENT
DTSTART;TZID=America/New_York:20250127T181500
DTEND;TZID=America/New_York:20250127T181500
DTSTAMP:20260420T215316
CREATED:20241231T165721Z
LAST-MODIFIED:20250120T123808Z
UID:4145-1738001700-1738001700@harmonia138.org
SUMMARY:Stated Communication / Game Night
DESCRIPTION:Meal 6:15 / Meeting 7:15
URL:https://harmonia138.org/event/2025-01-27-stated-communication/
LOCATION:Harmonia Lodge No. 138 F & AM\, 1896 Palm Beach Lakes Blvd. #200\, West Palm Beach\, FL\, 33409\, United States
CATEGORIES:Game Night,Stated Communication
ATTACH;FMTTYPE=image/jpeg:https://harmonia138.org/wp-content/uploads/2025/01/2025-01-27a-Stated-Communication.jpg
END:VEVENT
BEGIN:VEVENT
DTSTART;TZID=America/New_York:20250113T181500
DTEND;TZID=America/New_York:20250113T181500
DTSTAMP:20260420T215316
CREATED:20241231T165545Z
LAST-MODIFIED:20241231T165841Z
UID:4141-1736792100-1736792100@harmonia138.org
SUMMARY:Stated Communication
DESCRIPTION:Meal 6:15 / Meeting 7:15
URL:https://harmonia138.org/event/2025-01-13-stated-communication/
LOCATION:Harmonia Lodge No. 138 F & AM\, 1896 Palm Beach Lakes Blvd. #200\, West Palm Beach\, FL\, 33409\, United States
CATEGORIES:Stated Communication
ATTACH;FMTTYPE=image/jpeg:https://harmonia138.org/wp-content/uploads/2024/12/2025-01-13-Stated-Communication.jpg
END:VEVENT
BEGIN:VEVENT
DTSTART;TZID=America/New_York:20250104T100000
DTEND;TZID=America/New_York:20250104T100000
DTSTAMP:20260420T215316
CREATED:20241117T183401Z
LAST-MODIFIED:20241117T183426Z
UID:4120-1735984800-1735984800@harmonia138.org
SUMMARY:2025 Installation of Officers
DESCRIPTION:
URL:https://harmonia138.org/event/2025-01-04-installation-of-officers/
LOCATION:Harmonia Lodge No. 138 F & AM\, 1896 Palm Beach Lakes Blvd. #200\, West Palm Beach\, FL\, 33409\, United States
CATEGORIES:Officer Installation
ATTACH;FMTTYPE=image/jpeg:https://harmonia138.org/wp-content/uploads/2024/11/2025-01-04-Officers-Installation.jpg
END:VEVENT
BEGIN:VEVENT
DTSTART;TZID=America/New_York:20241223T000000
DTEND;TZID=America/New_York:20241223T000000
DTSTAMP:20260420T215316
CREATED:20241201T155440Z
LAST-MODIFIED:20241201T155831Z
UID:4127-1734912000-1734912000@harmonia138.org
SUMMARY:LODGE IS DARK (Holidays)
DESCRIPTION:
URL:https://harmonia138.org/event/2024-12-23-lodge-is-dark/
LOCATION:Harmonia Lodge No. 138 F & AM\, 1896 Palm Beach Lakes Blvd. #200\, West Palm Beach\, FL\, 33409\, United States
CATEGORIES:Lodge is Dark
ATTACH;FMTTYPE=image/jpeg:https://harmonia138.org/wp-content/uploads/2023/11/Lodge-is-Dark.jpg
END:VEVENT
END:VCALENDAR