BEGIN:VCALENDAR
VERSION:2.0
PRODID:-//Harmonia138.org - ECPv6.15.20//NONSGML v1.0//EN
CALSCALE:GREGORIAN
METHOD:PUBLISH
X-WR-CALNAME:Harmonia138.org
X-ORIGINAL-URL:https://harmonia138.org
X-WR-CALDESC:Events for Harmonia138.org
REFRESH-INTERVAL;VALUE=DURATION:PT1H
X-Robots-Tag:noindex
X-PUBLISHED-TTL:PT1H
BEGIN:VTIMEZONE
TZID:America/New_York
BEGIN:DAYLIGHT
TZOFFSETFROM:-0500
TZOFFSETTO:-0400
TZNAME:EDT
DTSTART:20230312T070000
END:DAYLIGHT
BEGIN:STANDARD
TZOFFSETFROM:-0400
TZOFFSETTO:-0500
TZNAME:EST
DTSTART:20231105T060000
END:STANDARD
BEGIN:DAYLIGHT
TZOFFSETFROM:-0500
TZOFFSETTO:-0400
TZNAME:EDT
DTSTART:20240310T070000
END:DAYLIGHT
BEGIN:STANDARD
TZOFFSETFROM:-0400
TZOFFSETTO:-0500
TZNAME:EST
DTSTART:20241103T060000
END:STANDARD
BEGIN:DAYLIGHT
TZOFFSETFROM:-0500
TZOFFSETTO:-0400
TZNAME:EDT
DTSTART:20250309T070000
END:DAYLIGHT
BEGIN:STANDARD
TZOFFSETFROM:-0400
TZOFFSETTO:-0500
TZNAME:EST
DTSTART:20251102T060000
END:STANDARD
END:VTIMEZONE
BEGIN:VEVENT
DTSTART;TZID=America/New_York:20241209T181500
DTEND;TZID=America/New_York:20241209T181500
DTSTAMP:20260425T171914
CREATED:20241201T155727Z
LAST-MODIFIED:20241201T155943Z
UID:4130-1733768100-1733768100@harmonia138.org
SUMMARY:Stated Communication / 2025 Officer Elections
DESCRIPTION:Meal 6:15 / Meeting 7:15
URL:https://harmonia138.org/event/2024-12-09-stated-communication-25-officer-elections/
CATEGORIES:Officer Elections,Stated Communication
ATTACH;FMTTYPE=image/jpeg:https://harmonia138.org/wp-content/uploads/2024/11/2025-01-04-Officers-Installation.jpg
END:VEVENT
END:VCALENDAR